BEGIN:VCALENDAR
VERSION:2.0
PRODID:PHP
METHOD:REQUEST
X-ORIGINAL-URL:http://www.rptfv.de/index.php/rptfv-liga/spielorte-der-vereine?task=spielort_begegnungen_ical&id=20
X-WR-CALNAME;VALUE=TEXT:St. Thomas Realschule plus Andernach
BEGIN:VEVENT
CLASS:PUBLIC
DTSTART:20250913T140000Z
DURATION:PT2H30M
STATUS:CONFIRMED
SUMMARY:DJK Andernach 2 vs. Borussia Eckelsheim
DESCRIPTION:RPTFV Verbandsliga 2025 (5. Spieltag)\nErgebnis: 4:4 (8:11)
LOCATION:St. Thomas Realschule plus Andernach, Salentinstraße 1a, 56626 Andernach
UID:SM-B2385@www.rptfv.de
PRIORITY:5
SEQUENCE:1
CATEGORIES:SPORT
DTSTAMP:20260422T083944
BEGIN:VALARM
ACTION:DISPLAY
TRIGGER:-PT2H
END:VALARM
END:VEVENT
BEGIN:VEVENT
CLASS:PUBLIC
DTSTART:20251011T090000Z
DURATION:PT2H30M
STATUS:CONFIRMED
SUMMARY:1. Kicker Club Kaiserslautern 3 vs. TFC Kaisersesch 2
DESCRIPTION:RPTFV Verbandsliga 2025 (7. Spieltag)\nErgebnis: 4:4 (10:9)
LOCATION:St. Thomas Realschule plus Andernach, Salentinstraße 1a, 56626 Andernach
UID:SM-B2410@www.rptfv.de
PRIORITY:5
SEQUENCE:1
CATEGORIES:SPORT
DTSTAMP:20260422T083944
BEGIN:VALARM
ACTION:DISPLAY
TRIGGER:-PT2H
END:VALARM
END:VEVENT
BEGIN:VEVENT
CLASS:PUBLIC
DTSTART:20251011T090000Z
DURATION:PT2H30M
STATUS:CONFIRMED
SUMMARY:Atletico Wahlrod 2 vs. Borussia Eckelsheim
DESCRIPTION:RPTFV Verbandsliga 2025 (7. Spieltag)\nErgebnis: 3:5 (8:12)
LOCATION:St. Thomas Realschule plus Andernach, Salentinstraße 1a, 56626 Andernach
UID:SM-B2409@www.rptfv.de
PRIORITY:5
SEQUENCE:1
CATEGORIES:SPORT
DTSTAMP:20260422T083944
BEGIN:VALARM
ACTION:DISPLAY
TRIGGER:-PT2H
END:VALARM
END:VEVENT
BEGIN:VEVENT
CLASS:PUBLIC
DTSTART:20251011T090000Z
DURATION:PT2H30M
STATUS:CONFIRMED
SUMMARY:DJK Andernach 1 vs. DJK Andernach 2
DESCRIPTION:RPTFV Verbandsliga 2025 (7. Spieltag)\nErgebnis: 3:5 (8:11)
LOCATION:St. Thomas Realschule plus Andernach, Salentinstraße 1a, 56626 Andernach
UID:SM-B2408@www.rptfv.de
PRIORITY:5
SEQUENCE:1
CATEGORIES:SPORT
DTSTAMP:20260422T083944
BEGIN:VALARM
ACTION:DISPLAY
TRIGGER:-PT2H
END:VALARM
END:VEVENT
BEGIN:VEVENT
CLASS:PUBLIC
DTSTART:20251011T090000Z
DURATION:PT2H30M
STATUS:CONFIRMED
SUMMARY:Machete Mainz vs. TFC Kaisersesch 3
DESCRIPTION:RPTFV Verbandsliga 2025 (7. Spieltag)\nErgebnis: 4:4 (10:9)
LOCATION:St. Thomas Realschule plus Andernach, Salentinstraße 1a, 56626 Andernach
UID:SM-B2411@www.rptfv.de
PRIORITY:5
SEQUENCE:1
CATEGORIES:SPORT
DTSTAMP:20260422T083944
BEGIN:VALARM
ACTION:DISPLAY
TRIGGER:-PT2H
END:VALARM
END:VEVENT
BEGIN:VEVENT
CLASS:PUBLIC
DTSTART:20251011T090000Z
DURATION:PT2H30M
STATUS:CONFIRMED
SUMMARY:MJC Tischfußball Trier 3 vs. 1. Altriper-Kicker-Club
DESCRIPTION:RPTFV Verbandsliga 2025 (7. Spieltag)\nErgebnis: 4:4 (10:9)
LOCATION:St. Thomas Realschule plus Andernach, Salentinstraße 1a, 56626 Andernach
UID:SM-B2407@www.rptfv.de
PRIORITY:5
SEQUENCE:1
CATEGORIES:SPORT
DTSTAMP:20260422T083944
BEGIN:VALARM
ACTION:DISPLAY
TRIGGER:-PT2H
END:VALARM
END:VEVENT
BEGIN:VEVENT
CLASS:PUBLIC
DTSTART:20251011T090000Z
DURATION:PT2H30M
STATUS:CONFIRMED
SUMMARY:Tischfußball Mannheim 2 vs. KickNix Trier
DESCRIPTION:RPTFV Verbandsliga 2025 (7. Spieltag)\nErgebnis: 6:2 (14:6)
LOCATION:St. Thomas Realschule plus Andernach, Salentinstraße 1a, 56626 Andernach
UID:SM-B2412@www.rptfv.de
PRIORITY:5
SEQUENCE:1
CATEGORIES:SPORT
DTSTAMP:20260422T083944
BEGIN:VALARM
ACTION:DISPLAY
TRIGGER:-PT2H
END:VALARM
END:VEVENT
BEGIN:VEVENT
CLASS:PUBLIC
DTSTART:20251011T113000Z
DURATION:PT2H30M
STATUS:CONFIRMED
SUMMARY:1. Altriper-Kicker-Club vs. Borussia Eckelsheim
DESCRIPTION:RPTFV Verbandsliga 2025 (7. Spieltag)\nErgebnis: 6:2 (13:5)
LOCATION:St. Thomas Realschule plus Andernach, Salentinstraße 1a, 56626 Andernach
UID:SM-B2413@www.rptfv.de
PRIORITY:5
SEQUENCE:1
CATEGORIES:SPORT
DTSTAMP:20260422T083944
BEGIN:VALARM
ACTION:DISPLAY
TRIGGER:-PT2H
END:VALARM
END:VEVENT
BEGIN:VEVENT
CLASS:PUBLIC
DTSTART:20251011T113000Z
DURATION:PT2H30M
STATUS:CONFIRMED
SUMMARY:KickNix Trier vs. DJK Andernach 1
DESCRIPTION:RPTFV Verbandsliga 2025 (7. Spieltag)\nErgebnis: 4:4 (9:10)
LOCATION:St. Thomas Realschule plus Andernach, Salentinstraße 1a, 56626 Andernach
UID:SM-B2414@www.rptfv.de
PRIORITY:5
SEQUENCE:1
CATEGORIES:SPORT
DTSTAMP:20260422T083944
BEGIN:VALARM
ACTION:DISPLAY
TRIGGER:-PT2H
END:VALARM
END:VEVENT
BEGIN:VEVENT
CLASS:PUBLIC
DTSTART:20251011T113000Z
DURATION:PT2H30M
STATUS:CONFIRMED
SUMMARY:Machete Mainz vs. DJK Andernach 2
DESCRIPTION:RPTFV Verbandsliga 2025 (7. Spieltag)\nErgebnis: 2:6 (8:12)
LOCATION:St. Thomas Realschule plus Andernach, Salentinstraße 1a, 56626 Andernach
UID:SM-B2415@www.rptfv.de
PRIORITY:5
SEQUENCE:1
CATEGORIES:SPORT
DTSTAMP:20260422T083944
BEGIN:VALARM
ACTION:DISPLAY
TRIGGER:-PT2H
END:VALARM
END:VEVENT
BEGIN:VEVENT
CLASS:PUBLIC
DTSTART:20251011T113000Z
DURATION:PT2H30M
STATUS:CONFIRMED
SUMMARY:MJC Tischfußball Trier 3 vs. 1. Kicker Club Kaiserslautern 3
DESCRIPTION:RPTFV Verbandsliga 2025 (7. Spieltag)\nErgebnis: 4:4 (9:9)
LOCATION:St. Thomas Realschule plus Andernach, Salentinstraße 1a, 56626 Andernach
UID:SM-B2417@www.rptfv.de
PRIORITY:5
SEQUENCE:1
CATEGORIES:SPORT
DTSTAMP:20260422T083944
BEGIN:VALARM
ACTION:DISPLAY
TRIGGER:-PT2H
END:VALARM
END:VEVENT
BEGIN:VEVENT
CLASS:PUBLIC
DTSTART:20251011T113000Z
DURATION:PT2H30M
STATUS:CONFIRMED
SUMMARY:TFC Kaisersesch 2 vs. Atletico Wahlrod 2
DESCRIPTION:RPTFV Verbandsliga 2025 (7. Spieltag)\nErgebnis: 0:8 (1:16)
LOCATION:St. Thomas Realschule plus Andernach, Salentinstraße 1a, 56626 Andernach
UID:SM-B2416@www.rptfv.de
PRIORITY:5
SEQUENCE:1
CATEGORIES:SPORT
DTSTAMP:20260422T083944
BEGIN:VALARM
ACTION:DISPLAY
TRIGGER:-PT2H
END:VALARM
END:VEVENT
BEGIN:VEVENT
CLASS:PUBLIC
DTSTART:20251011T113000Z
DURATION:PT2H30M
STATUS:CONFIRMED
SUMMARY:TFC Kaisersesch 3 vs. Tischfußball Mannheim 2
DESCRIPTION:RPTFV Verbandsliga 2025 (7. Spieltag)\nErgebnis: 3:5 (8:13)
LOCATION:St. Thomas Realschule plus Andernach, Salentinstraße 1a, 56626 Andernach
UID:SM-B2418@www.rptfv.de
PRIORITY:5
SEQUENCE:1
CATEGORIES:SPORT
DTSTAMP:20260422T083944
BEGIN:VALARM
ACTION:DISPLAY
TRIGGER:-PT2H
END:VALARM
END:VEVENT
BEGIN:VEVENT
CLASS:PUBLIC
DTSTART:20251011T140000Z
DURATION:PT2H30M
STATUS:CONFIRMED
SUMMARY:1. Altriper-Kicker-Club vs. TFC Kaisersesch 2
DESCRIPTION:RPTFV Verbandsliga 2025 (7. Spieltag)\nErgebnis: 7:1 (14:3)
LOCATION:St. Thomas Realschule plus Andernach, Salentinstraße 1a, 56626 Andernach
UID:SM-B2419@www.rptfv.de
PRIORITY:5
SEQUENCE:1
CATEGORIES:SPORT
DTSTAMP:20260422T083944
BEGIN:VALARM
ACTION:DISPLAY
TRIGGER:-PT2H
END:VALARM
END:VEVENT
BEGIN:VEVENT
CLASS:PUBLIC
DTSTART:20251011T140000Z
DURATION:PT2H30M
STATUS:CONFIRMED
SUMMARY:Atletico Wahlrod 2 vs. 1. Kicker Club Kaiserslautern 3
DESCRIPTION:RPTFV Verbandsliga 2025 (7. Spieltag)\nErgebnis: 6:2 (13:5)
LOCATION:St. Thomas Realschule plus Andernach, Salentinstraße 1a, 56626 Andernach
UID:SM-B2423@www.rptfv.de
PRIORITY:5
SEQUENCE:1
CATEGORIES:SPORT
DTSTAMP:20260422T083944
BEGIN:VALARM
ACTION:DISPLAY
TRIGGER:-PT2H
END:VALARM
END:VEVENT
BEGIN:VEVENT
CLASS:PUBLIC
DTSTART:20251011T140000Z
DURATION:PT2H30M
STATUS:CONFIRMED
SUMMARY:Machete Mainz vs. DJK Andernach 1
DESCRIPTION:RPTFV Verbandsliga 2025 (7. Spieltag)\nErgebnis: 2:6 (5:13)
LOCATION:St. Thomas Realschule plus Andernach, Salentinstraße 1a, 56626 Andernach
UID:SM-B2420@www.rptfv.de
PRIORITY:5
SEQUENCE:1
CATEGORIES:SPORT
DTSTAMP:20260422T083944
BEGIN:VALARM
ACTION:DISPLAY
TRIGGER:-PT2H
END:VALARM
END:VEVENT
BEGIN:VEVENT
CLASS:PUBLIC
DTSTART:20251011T140000Z
DURATION:PT2H30M
STATUS:CONFIRMED
SUMMARY:MJC Tischfußball Trier 3 vs. DJK Andernach 2
DESCRIPTION:RPTFV Verbandsliga 2025 (7. Spieltag)\nErgebnis: 2:6 (6:13)
LOCATION:St. Thomas Realschule plus Andernach, Salentinstraße 1a, 56626 Andernach
UID:SM-B2421@www.rptfv.de
PRIORITY:5
SEQUENCE:1
CATEGORIES:SPORT
DTSTAMP:20260422T083944
BEGIN:VALARM
ACTION:DISPLAY
TRIGGER:-PT2H
END:VALARM
END:VEVENT
BEGIN:VEVENT
CLASS:PUBLIC
DTSTART:20251011T140000Z
DURATION:PT2H30M
STATUS:CONFIRMED
SUMMARY:TFC Kaisersesch 3 vs. KickNix Trier
DESCRIPTION:RPTFV Verbandsliga 2025 (7. Spieltag)\nErgebnis: 3:5 (10:10)
LOCATION:St. Thomas Realschule plus Andernach, Salentinstraße 1a, 56626 Andernach
UID:SM-B2424@www.rptfv.de
PRIORITY:5
SEQUENCE:1
CATEGORIES:SPORT
DTSTAMP:20260422T083944
BEGIN:VALARM
ACTION:DISPLAY
TRIGGER:-PT2H
END:VALARM
END:VEVENT
BEGIN:VEVENT
CLASS:PUBLIC
DTSTART:20251011T140000Z
DURATION:PT2H30M
STATUS:CONFIRMED
SUMMARY:Tischfußball Mannheim 2 vs. Borussia Eckelsheim
DESCRIPTION:RPTFV Verbandsliga 2025 (7. Spieltag)\nErgebnis: 4:4 (10:8)
LOCATION:St. Thomas Realschule plus Andernach, Salentinstraße 1a, 56626 Andernach
UID:SM-B2422@www.rptfv.de
PRIORITY:5
SEQUENCE:1
CATEGORIES:SPORT
DTSTAMP:20260422T083944
BEGIN:VALARM
ACTION:DISPLAY
TRIGGER:-PT2H
END:VALARM
END:VEVENT
BEGIN:VEVENT
CLASS:PUBLIC
DTSTART:20261004T090000Z
DURATION:PT2H30M
STATUS:CONFIRMED
SUMMARY:MJC Tischfußball Trier 1 vs. 1. Kicker Club Kaiserslautern 2
DESCRIPTION:RPTFV Landesliga 2026 (5. Spieltag)
LOCATION:St. Thomas Realschule plus Andernach, Salentinstraße 1a, 56626 Andernach
UID:SM-B2507@www.rptfv.de
PRIORITY:5
SEQUENCE:0
CATEGORIES:SPORT
DTSTAMP:20260422T083944
BEGIN:VALARM
ACTION:DISPLAY
TRIGGER:-PT2H
END:VALARM
END:VEVENT
BEGIN:VEVENT
CLASS:PUBLIC
DTSTART:20261004T090000Z
DURATION:PT2H30M
STATUS:CONFIRMED
SUMMARY:TFC Kaisersesch 1 vs. DJK Andernach
DESCRIPTION:RPTFV Landesliga 2026 (5. Spieltag)
LOCATION:St. Thomas Realschule plus Andernach, Salentinstraße 1a, 56626 Andernach
UID:SM-B2506@www.rptfv.de
PRIORITY:5
SEQUENCE:0
CATEGORIES:SPORT
DTSTAMP:20260422T083944
BEGIN:VALARM
ACTION:DISPLAY
TRIGGER:-PT2H
END:VALARM
END:VEVENT
BEGIN:VEVENT
CLASS:PUBLIC
DTSTART:20261004T113000Z
DURATION:PT2H30M
STATUS:CONFIRMED
SUMMARY:1. Kicker Club Kaiserslautern 2 vs. DJK Andernach
DESCRIPTION:RPTFV Landesliga 2026 (5. Spieltag)
LOCATION:St. Thomas Realschule plus Andernach, Salentinstraße 1a, 56626 Andernach
UID:SM-B2511@www.rptfv.de
PRIORITY:5
SEQUENCE:0
CATEGORIES:SPORT
DTSTAMP:20260422T083944
BEGIN:VALARM
ACTION:DISPLAY
TRIGGER:-PT2H
END:VALARM
END:VEVENT
BEGIN:VEVENT
CLASS:PUBLIC
DTSTART:20261004T113000Z
DURATION:PT2H30M
STATUS:CONFIRMED
SUMMARY:MJC Tischfußball Trier 1 vs. TFC Kaisersesch 1
DESCRIPTION:RPTFV Landesliga 2026 (5. Spieltag)
LOCATION:St. Thomas Realschule plus Andernach, Salentinstraße 1a, 56626 Andernach
UID:SM-B2512@www.rptfv.de
PRIORITY:5
SEQUENCE:0
CATEGORIES:SPORT
DTSTAMP:20260422T083944
BEGIN:VALARM
ACTION:DISPLAY
TRIGGER:-PT2H
END:VALARM
END:VEVENT
BEGIN:VEVENT
CLASS:PUBLIC
DTSTART:20261004T140000Z
DURATION:PT2H30M
STATUS:CONFIRMED
SUMMARY:1. Kicker Club Kaiserslautern 2 vs. TFC Kaisersesch 1
DESCRIPTION:RPTFV Landesliga 2026 (5. Spieltag)
LOCATION:St. Thomas Realschule plus Andernach, Salentinstraße 1a, 56626 Andernach
UID:SM-B2517@www.rptfv.de
PRIORITY:5
SEQUENCE:0
CATEGORIES:SPORT
DTSTAMP:20260422T083944
BEGIN:VALARM
ACTION:DISPLAY
TRIGGER:-PT2H
END:VALARM
END:VEVENT
BEGIN:VEVENT
CLASS:PUBLIC
DTSTART:20261004T140000Z
DURATION:PT2H30M
STATUS:CONFIRMED
SUMMARY:MJC Tischfußball Trier 1 vs. DJK Andernach
DESCRIPTION:RPTFV Landesliga 2026 (5. Spieltag)
LOCATION:St. Thomas Realschule plus Andernach, Salentinstraße 1a, 56626 Andernach
UID:SM-B2516@www.rptfv.de
PRIORITY:5
SEQUENCE:0
CATEGORIES:SPORT
DTSTAMP:20260422T083944
BEGIN:VALARM
ACTION:DISPLAY
TRIGGER:-PT2H
END:VALARM
END:VEVENT
END:VCALENDAR
